BEGIN:VCALENDAR
VERSION:2.0
PRODID:-//LéZardiZenscène - ECPv6.15.17.1//NONSGML v1.0//EN
CALSCALE:GREGORIAN
METHOD:PUBLISH
X-WR-CALNAME:LéZardiZenscène
X-ORIGINAL-URL:https://www.lezardizenscene.com
X-WR-CALDESC:Évènements pour LéZardiZenscène
REFRESH-INTERVAL;VALUE=DURATION:PT1H
X-Robots-Tag:noindex
X-PUBLISHED-TTL:PT1H
BEGIN:VTIMEZONE
TZID:Europe/Paris
BEGIN:DAYLIGHT
TZOFFSETFROM:+0100
TZOFFSETTO:+0200
TZNAME:CEST
DTSTART:20250330T010000
END:DAYLIGHT
BEGIN:STANDARD
TZOFFSETFROM:+0200
TZOFFSETTO:+0100
TZNAME:CET
DTSTART:20251026T010000
END:STANDARD
BEGIN:DAYLIGHT
TZOFFSETFROM:+0100
TZOFFSETTO:+0200
TZNAME:CEST
DTSTART:20260329T010000
END:DAYLIGHT
BEGIN:STANDARD
TZOFFSETFROM:+0200
TZOFFSETTO:+0100
TZNAME:CET
DTSTART:20261025T010000
END:STANDARD
BEGIN:DAYLIGHT
TZOFFSETFROM:+0100
TZOFFSETTO:+0200
TZNAME:CEST
DTSTART:20270328T010000
END:DAYLIGHT
BEGIN:STANDARD
TZOFFSETFROM:+0200
TZOFFSETTO:+0100
TZNAME:CET
DTSTART:20271031T010000
END:STANDARD
END:VTIMEZONE
BEGIN:VEVENT
DTSTART;TZID=Europe/Paris:20260410T200000
DTEND;TZID=Europe/Paris:20260410T211500
DTSTAMP:20260424T144010
CREATED:20260325T135521Z
LAST-MODIFIED:20260326T092506Z
UID:62695-1775851200-1775855700@www.lezardizenscene.com
SUMMARY:Combien d'oiseaux dans le ciel ?
DESCRIPTION:Dans le cadre de la 19ème édition des rencontres de théâtre amateur d’Issy et d’ailleurs\, nous aurons le plaisir de jouer la pièce « Combien d’oiseaux dans le ciels ? » \nRéservation par téléphone uniquement 01 40 93 44 50 : \n 
URL:https://www.lezardizenscene.com/agenda/combien-doiseaux-dans-le-ciel-festival-issy-les-moulineaux/
LOCATION:Espace Icare\, 31 boulevard Gambetta\, Issy-les-Moulineaux\, 92040\, France
CATEGORIES:Représentation
ATTACH;FMTTYPE=image/webp:https://www.lezardizenscene.com/wp-content/uploads/2025/10/piece_combien-oiseaux-sylvie-cens.webp
ORGANIZER;CN="Espace Icare":MAILTO:infos@espace-icare.com
END:VEVENT
END:VCALENDAR