BEGIN:VCALENDAR
VERSION:2.0
PRODID:-//LéZardiZenscène - ECPv6.15.17.1//NONSGML v1.0//EN
CALSCALE:GREGORIAN
METHOD:PUBLISH
X-WR-CALNAME:LéZardiZenscène
X-ORIGINAL-URL:https://www.lezardizenscene.com
X-WR-CALDESC:Évènements pour LéZardiZenscène
REFRESH-INTERVAL;VALUE=DURATION:PT1H
X-Robots-Tag:noindex
X-PUBLISHED-TTL:PT1H
BEGIN:VTIMEZONE
TZID:Europe/Paris
BEGIN:DAYLIGHT
TZOFFSETFROM:+0100
TZOFFSETTO:+0200
TZNAME:CEST
DTSTART:20250330T010000
END:DAYLIGHT
BEGIN:STANDARD
TZOFFSETFROM:+0200
TZOFFSETTO:+0100
TZNAME:CET
DTSTART:20251026T010000
END:STANDARD
BEGIN:DAYLIGHT
TZOFFSETFROM:+0100
TZOFFSETTO:+0200
TZNAME:CEST
DTSTART:20260329T010000
END:DAYLIGHT
BEGIN:STANDARD
TZOFFSETFROM:+0200
TZOFFSETTO:+0100
TZNAME:CET
DTSTART:20261025T010000
END:STANDARD
BEGIN:DAYLIGHT
TZOFFSETFROM:+0100
TZOFFSETTO:+0200
TZNAME:CEST
DTSTART:20270328T010000
END:DAYLIGHT
BEGIN:STANDARD
TZOFFSETFROM:+0200
TZOFFSETTO:+0100
TZNAME:CET
DTSTART:20271031T010000
END:STANDARD
END:VTIMEZONE
BEGIN:VTIMEZONE
TZID:UTC
BEGIN:STANDARD
TZOFFSETFROM:+0000
TZOFFSETTO:+0000
TZNAME:UTC
DTSTART:20240101T000000
END:STANDARD
END:VTIMEZONE
BEGIN:VEVENT
DTSTART;TZID=Europe/Paris:20260411T160000
DTEND;TZID=Europe/Paris:20260411T171500
DTSTAMP:20260424T131850
CREATED:20260316T141859Z
LAST-MODIFIED:20260325T142611Z
UID:62670-1775923200-1775927700@www.lezardizenscene.com
SUMMARY:Une heure et demie de retard
DESCRIPTION:Une belle comédie : \nPierre et Laurence sont invités à dîner. Rien de plus banal. Mais au moment de partir\, Laurence a besoin de parler… Ça tombe mal\, c’est un dîner important. Rien à faire\, Laurence est bien décidée à dire ce qu’elle a sur le cœur. Pierre lui laisse dix minutes… Ça ne sera pas suffisant. 30 ans de vie commune\, ça vaut bien une heure et demie de retard. En toile de fond de la vie de vieux couple en pleine dissection comique\, tous les piments et petits poisons de la vie quotidienne. Un dialogue pétillant\, des répliques qui font mouche pour ce couple au bord de la rupture\, ou pas. La vie tout simplement. \n \nBilletterie en ligne (tarif réduit 5 € pour les -26 ans et + de 60 ans).
URL:https://www.lezardizenscene.com/agenda/une-heure-et-demie-de-retard-festival-gourm-en-scene/
LOCATION:ESPACE CULTUREL BEAUMARCHAIS\, 15 Rue de la République\, Maromme\, 76150\, France
CATEGORIES:Festival
ATTACH;FMTTYPE=image/webp:https://www.lezardizenscene.com/wp-content/uploads/2025/09/piece-une-heure-et-demi-de-retard-9.webp
END:VEVENT
BEGIN:VEVENT
DTSTART;TZID=Europe/Paris:20260410T200000
DTEND;TZID=Europe/Paris:20260410T211500
DTSTAMP:20260424T131850
CREATED:20260325T135521Z
LAST-MODIFIED:20260326T092506Z
UID:62695-1775851200-1775855700@www.lezardizenscene.com
SUMMARY:Combien d'oiseaux dans le ciel ?
DESCRIPTION:Dans le cadre de la 19ème édition des rencontres de théâtre amateur d’Issy et d’ailleurs\, nous aurons le plaisir de jouer la pièce « Combien d’oiseaux dans le ciels ? » \nRéservation par téléphone uniquement 01 40 93 44 50 : \n 
URL:https://www.lezardizenscene.com/agenda/combien-doiseaux-dans-le-ciel-festival-issy-les-moulineaux/
LOCATION:Espace Icare\, 31 boulevard Gambetta\, Issy-les-Moulineaux\, 92040\, France
CATEGORIES:Représentation
ATTACH;FMTTYPE=image/webp:https://www.lezardizenscene.com/wp-content/uploads/2025/10/piece_combien-oiseaux-sylvie-cens.webp
ORGANIZER;CN="Espace Icare":MAILTO:infos@espace-icare.com
END:VEVENT
BEGIN:VEVENT
DTSTART;TZID=Europe/Paris:20260404T190000
DTEND;TZID=Europe/Paris:20260404T220000
DTSTAMP:20260424T131850
CREATED:20251129T165258Z
LAST-MODIFIED:20260326T092316Z
UID:62423-1775329200-1775340000@www.lezardizenscene.com
SUMMARY:Combien d'oiseaux dans le ciel ?
DESCRIPTION:Dans le cadre de la journée de sensibilisation à l’autisme\, nous aurons le plaisir de jouer la pièce Combien d’oiseaux dans le ciel ? \n« Gala des arts vivants » organisé par l’ALC en soutien au projet interassociatif à vocation inclusive et sociale « L’Archipel de la Vallée ». \nTarifs\nAdulte 8 € / Enfant 5 € \nRéservation
URL:https://www.lezardizenscene.com/agenda/combien-doiseaux-dans-le-ciel-2/
LOCATION:Salle de Spectacle Michel Audiard\, Gymnase Ferdinand Léger Chemin des Regains\, CHEVREUSE\, 78460\, France
CATEGORIES:Représentation
ATTACH;FMTTYPE=image/webp:https://www.lezardizenscene.com/wp-content/uploads/2025/10/piece_combien-oiseaux-sylvie-cens.webp
END:VEVENT
BEGIN:VEVENT
DTSTART;TZID=Europe/Paris:20260404T143000
DTEND;TZID=Europe/Paris:20260404T155000
DTSTAMP:20260424T131850
CREATED:20260326T100100Z
LAST-MODIFIED:20260326T100216Z
UID:62715-1775313000-1775317800@www.lezardizenscene.com
SUMMARY:Une heure et demie de retard
DESCRIPTION:Une belle comédie au Festival Veau de Ville d’Aurillac : \nPierre et Laurence sont invités à dîner. Rien de plus banal. Mais au moment de partir\, Laurence a besoin de parler… Ça tombe mal\, c’est un dîner important. Rien à faire\, Laurence est bien décidée à dire ce qu’elle a sur le cœur. Pierre lui laisse dix minutes… Ça ne sera pas suffisant. 30 ans de vie commune\, ça vaut bien une heure et demie de retard. En toile de fond de la vie de vieux couple en pleine dissection comique\, tous les piments et petits poisons de la vie quotidienne. Un dialogue pétillant\, des répliques qui font mouche pour ce couple au bord de la rupture\, ou pas. La vie tout simplement. \nBilletterie en ligne 8 €.
URL:https://www.lezardizenscene.com/agenda/une-heure-et-demie-de-retard-aurillac/
LOCATION:THÉÂTRE MUNICIPAL D’AURILLAC\, 4 rue de la Coste\, AURILLAC\, 15000\, France
CATEGORIES:Festival
ATTACH;FMTTYPE=image/webp:https://www.lezardizenscene.com/wp-content/uploads/2025/09/piece-une-heure-et-demi-de-retard-9.webp
END:VEVENT
BEGIN:VEVENT
DTSTART;TZID=Europe/Paris:20260208T170000
DTEND;TZID=Europe/Paris:20260208T181500
DTSTAMP:20260424T131850
CREATED:20251129T162719Z
LAST-MODIFIED:20251129T162719Z
UID:62411-1770570000-1770574500@www.lezardizenscene.com
SUMMARY:Une heure et demie de retard
DESCRIPTION:Une belle comédie : \nPierre et Laurence sont invités à dîner. Rien de plus banal. Mais au moment de partir\, Laurence a besoin de parler… Ça tombe mal\, c’est un dîner important. Rien à faire\, Laurence est bien décidée à dire ce qu’elle a sur le cœur. Pierre lui laisse dix minutes… Ça ne sera pas suffisant. 30 ans de vie commune\, ça vaut bien une heure et demie de retard. En toile de fond de la vie de vieux couple en pleine dissection comique\, tous les piments et petits poisons de la vie quotidienne. Un dialogue pétillant\, des répliques qui font mouche pour ce couple au bord de la rupture\, ou pas. La vie tout simplement. \nBilletterie en ligne.
URL:https://www.lezardizenscene.com/agenda/une-heure-et-demie-de-retard-8-fevrier-2026/
LOCATION:Théâtre le magasin\, 144 avenue Pierre Brossolette\, MALAKOFF\, 92240\, France
CATEGORIES:Représentation
ATTACH;FMTTYPE=image/webp:https://www.lezardizenscene.com/wp-content/uploads/2025/09/piece-une-heure-et-demi-de-retard-9.webp
END:VEVENT
BEGIN:VEVENT
DTSTART;TZID=Europe/Paris:20260207T193000
DTEND;TZID=Europe/Paris:20260207T204500
DTSTAMP:20260424T131850
CREATED:20251129T162533Z
LAST-MODIFIED:20251129T162533Z
UID:62409-1770492600-1770497100@www.lezardizenscene.com
SUMMARY:Une heure et demie de retard
DESCRIPTION:Une belle comédie : \nPierre et Laurence sont invités à dîner. Rien de plus banal. Mais au moment de partir\, Laurence a besoin de parler… Ça tombe mal\, c’est un dîner important. Rien à faire\, Laurence est bien décidée à dire ce qu’elle a sur le cœur. Pierre lui laisse dix minutes… Ça ne sera pas suffisant. 30 ans de vie commune\, ça vaut bien une heure et demie de retard. En toile de fond de la vie de vieux couple en pleine dissection comique\, tous les piments et petits poisons de la vie quotidienne. Un dialogue pétillant\, des répliques qui font mouche pour ce couple au bord de la rupture\, ou pas. La vie tout simplement. \nBilletterie en ligne.
URL:https://www.lezardizenscene.com/agenda/une-heure-et-demie-de-retard-7-fevrier-2026/
LOCATION:Théâtre le magasin\, 144 avenue Pierre Brossolette\, MALAKOFF\, 92240\, France
CATEGORIES:Représentation
ATTACH;FMTTYPE=image/webp:https://www.lezardizenscene.com/wp-content/uploads/2025/09/piece-une-heure-et-demi-de-retard-9.webp
END:VEVENT
BEGIN:VEVENT
DTSTART;TZID=Europe/Paris:20260206T193000
DTEND;TZID=Europe/Paris:20260206T204500
DTSTAMP:20260424T131850
CREATED:20251129T161842Z
LAST-MODIFIED:20251129T162256Z
UID:62403-1770406200-1770410700@www.lezardizenscene.com
SUMMARY:Une heure et demie de retard
DESCRIPTION:Une belle comédie : \nPierre et Laurence sont invités à dîner. Rien de plus banal. Mais au moment de partir\, Laurence a besoin de parler… Ça tombe mal\, c’est un dîner important. Rien à faire\, Laurence est bien décidée à dire ce qu’elle a sur le cœur. Pierre lui laisse dix minutes… Ça ne sera pas suffisant. 30 ans de vie commune\, ça vaut bien une heure et demie de retard. En toile de fond de la vie de vieux couple en pleine dissection comique\, tous les piments et petits poisons de la vie quotidienne. Un dialogue pétillant\, des répliques qui font mouche pour ce couple au bord de la rupture\, ou pas. La vie tout simplement. \nBilletterie en ligne.
URL:https://www.lezardizenscene.com/agenda/une-heure-et-demie-de-retard/
LOCATION:Théâtre le magasin\, 144 avenue Pierre Brossolette\, MALAKOFF\, 92240\, France
CATEGORIES:Représentation
ATTACH;FMTTYPE=image/webp:https://www.lezardizenscene.com/wp-content/uploads/2025/09/piece-une-heure-et-demi-de-retard-9.webp
END:VEVENT
BEGIN:VEVENT
DTSTART;TZID=Europe/Paris:20260205T203000
DTEND;TZID=Europe/Paris:20260205T203000
DTSTAMP:20260424T131850
CREATED:20251129T163354Z
LAST-MODIFIED:20260107T171805Z
UID:62415-1770323400-1770323400@www.lezardizenscene.com
SUMMARY:Combien d'oiseaux dans le ciel ?
DESCRIPTION:Pièce sélectionnée au festival régional d’Île-de-France organisé par la FNCTA – Union Île-de-France. Coups de Théâtre de Massy 2026\, festival du mercredi 4 février 2026 au dimanche 8 février 2026. \nPlein tarif 10\,00 €\nTarif réduit 8\,00 €\nPass Festival 30\,00 € \nProgramme complet et réservation.
URL:https://www.lezardizenscene.com/agenda/combien-doiseaux-dans-le-ciel/
LOCATION:Opéra de Massy\, 1 Place de France\, MASSY\, 91300\, France
CATEGORIES:Représentation
ATTACH;FMTTYPE=image/webp:https://www.lezardizenscene.com/wp-content/uploads/2025/10/piece_combien-oiseaux-sylvie-cens.webp
END:VEVENT
BEGIN:VEVENT
DTSTART;TZID=Europe/Paris:20260131T203000
DTEND;TZID=Europe/Paris:20260131T223000
DTSTAMP:20260424T131850
CREATED:20251129T154553Z
LAST-MODIFIED:20251129T160809Z
UID:62395-1769891400-1769898600@www.lezardizenscene.com
SUMMARY:Sauvons notre village !
DESCRIPTION:LéZardiZenscène accueille la compagnie AIRANCE de Viroflay avec sa comédie musicale « Sauvons notre village ! » \nLivret et mise en scène : Sylvie Cens \nUne belle histoire provençale… Deux heures de comédies musicales avec des reprises que vous pourrez chanter avec nous !
URL:https://www.lezardizenscene.com/agenda/sauvons-notre-village/
LOCATION:Théâtre des Arcades\, 6 rue des frères Robin\, BUC\, 78530\, France
CATEGORIES:Représentation
ATTACH;FMTTYPE=image/webp:https://www.lezardizenscene.com/wp-content/uploads/2025/11/comedie-musicale-sauvons-notre-village.webp
END:VEVENT
BEGIN:VEVENT
DTSTART;TZID=UTC:20251206T200000
DTEND;TZID=UTC:20251206T223000
DTSTAMP:20260424T131850
CREATED:20201128T122125Z
LAST-MODIFIED:20251129T152519Z
UID:1194-1765051200-1765060200@www.lezardizenscene.com
SUMMARY:DRUÔLE au profit de l'association Buc Tiers Monde
DESCRIPTION:Représentation au profit de l’association Buc Tiers-monde. Venez nombreux pour rire et soutenir une belle cause humanitaire ! \nRires garantis :  DRUÔLE et ces saynètes très différentes \nTarif : 15 €\, enfants -12 ans : 10 €
URL:https://www.lezardizenscene.com/agenda/druole-au-profit-de-lassociation-buc-tiers-monde/
LOCATION:Théâtre des Arcades\, 6 rue des frères Robin\, BUC\, 78530\, France
CATEGORIES:Représentation
ATTACH;FMTTYPE=image/webp:https://www.lezardizenscene.com/wp-content/uploads/2025/09/druole-piece-comique-duo-6.webp
END:VEVENT
BEGIN:VEVENT
DTSTART;TZID=UTC:20251115T203000
DTEND;TZID=UTC:20251115T220000
DTSTAMP:20260424T131850
CREATED:20240312T164048Z
LAST-MODIFIED:20251017T170634Z
UID:54766-1763238600-1763244000@www.lezardizenscene.com
SUMMARY:Le vent des peupliers - Allemagne
DESCRIPTION:Dans le cadre du jumelage franco-germanique organisé par la ville de Buc\, la pièce Le vent des peupliers sera jouée à BAD SCHWALBACH en Allemagne. \nEntrée libre sortie au chapeau.
URL:https://www.lezardizenscene.com/agenda/le-vent-des-peupliers-allemagne/
LOCATION:BAD SCHWALBACH\, BAD SCHWALBACH\, 65307\, Germany
CATEGORIES:Représentation
ATTACH;FMTTYPE=image/webp:https://www.lezardizenscene.com/wp-content/uploads/2025/09/piece-vent-des-peupliers-intro.webp
END:VEVENT
END:VCALENDAR