BEGIN:VCALENDAR
VERSION:2.0
PRODID:-//LéZardiZenscène - ECPv6.15.17.1//NONSGML v1.0//EN
CALSCALE:GREGORIAN
METHOD:PUBLISH
X-WR-CALNAME:LéZardiZenscène
X-ORIGINAL-URL:https://www.lezardizenscene.com
X-WR-CALDESC:Évènements pour LéZardiZenscène
REFRESH-INTERVAL;VALUE=DURATION:PT1H
X-Robots-Tag:noindex
X-PUBLISHED-TTL:PT1H
BEGIN:VTIMEZONE
TZID:Europe/Paris
BEGIN:DAYLIGHT
TZOFFSETFROM:+0100
TZOFFSETTO:+0200
TZNAME:CEST
DTSTART:20250330T010000
END:DAYLIGHT
BEGIN:STANDARD
TZOFFSETFROM:+0200
TZOFFSETTO:+0100
TZNAME:CET
DTSTART:20251026T010000
END:STANDARD
BEGIN:DAYLIGHT
TZOFFSETFROM:+0100
TZOFFSETTO:+0200
TZNAME:CEST
DTSTART:20260329T010000
END:DAYLIGHT
BEGIN:STANDARD
TZOFFSETFROM:+0200
TZOFFSETTO:+0100
TZNAME:CET
DTSTART:20261025T010000
END:STANDARD
BEGIN:DAYLIGHT
TZOFFSETFROM:+0100
TZOFFSETTO:+0200
TZNAME:CEST
DTSTART:20270328T010000
END:DAYLIGHT
BEGIN:STANDARD
TZOFFSETFROM:+0200
TZOFFSETTO:+0100
TZNAME:CET
DTSTART:20271031T010000
END:STANDARD
END:VTIMEZONE
BEGIN:VEVENT
DTSTART;TZID=Europe/Paris:20260131T203000
DTEND;TZID=Europe/Paris:20260131T223000
DTSTAMP:20260424T174910
CREATED:20251129T154553Z
LAST-MODIFIED:20251129T160809Z
UID:62395-1769891400-1769898600@www.lezardizenscene.com
SUMMARY:Sauvons notre village !
DESCRIPTION:LéZardiZenscène accueille la compagnie AIRANCE de Viroflay avec sa comédie musicale « Sauvons notre village ! » \nLivret et mise en scène : Sylvie Cens \nUne belle histoire provençale… Deux heures de comédies musicales avec des reprises que vous pourrez chanter avec nous !
URL:https://www.lezardizenscene.com/agenda/sauvons-notre-village/
LOCATION:Théâtre des Arcades\, 6 rue des frères Robin\, BUC\, 78530\, France
CATEGORIES:Représentation
ATTACH;FMTTYPE=image/webp:https://www.lezardizenscene.com/wp-content/uploads/2025/11/comedie-musicale-sauvons-notre-village.webp
END:VEVENT
END:VCALENDAR